BEGIN:VCALENDAR
VERSION:2.0
PRODID:-// - ECPv6.2.2//NONSGML v1.0//EN
CALSCALE:GREGORIAN
METHOD:PUBLISH
X-ORIGINAL-URL:https://quillypark.com.au
X-WR-CALDESC:Events for 
REFRESH-INTERVAL;VALUE=DURATION:PT1H
X-Robots-Tag:noindex
X-PUBLISHED-TTL:PT1H
BEGIN:VTIMEZONE
TZID:Australia/Melbourne
BEGIN:STANDARD
TZOFFSETFROM:+1100
TZOFFSETTO:+1000
TZNAME:AEST
DTSTART:20160402T160000
END:STANDARD
BEGIN:DAYLIGHT
TZOFFSETFROM:+1000
TZOFFSETTO:+1100
TZNAME:AEDT
DTSTART:20161001T160000
END:DAYLIGHT
END:VTIMEZONE
BEGIN:VEVENT
DTSTART;VALUE=DATE:20160326
DTEND;VALUE=DATE:20160327
DTSTAMP:20260420T204829
CREATED:20151209T063958Z
LAST-MODIFIED:20151209T063958Z
UID:4172-1458950400-1459036799@quillypark.com.au
SUMMARY:Picnic Racing Live at Balnarring - listen on 97.7FM
DESCRIPTION:Listen live on 97.7FM or online at www.caseyradio.com.au
URL:https://quillypark.com.au/event/picnic-racing-live-balnarring-listen-97-7fm/
LOCATION:Balnarring Picnic Racing Club
CATEGORIES:Picnic Racing Live on 97.7FM
END:VEVENT
BEGIN:VEVENT
DTSTART;VALUE=DATE:20160313
DTEND;VALUE=DATE:20160314
DTSTAMP:20260420T204829
CREATED:20151209T063857Z
LAST-MODIFIED:20151209T063857Z
UID:4171-1457827200-1457913599@quillypark.com.au
SUMMARY:Picnic Racing Live at Balnarring - listen on 97.7FM
DESCRIPTION:Listen live on 97.7FM or online at www.caseyradio.com.au
URL:https://quillypark.com.au/event/picnic-racing-live-at-balnarring-listen-on-97-7fm-2/
LOCATION:Balnarring Picnic Racing Club
CATEGORIES:Picnic Racing Live on 97.7FM
END:VEVENT
BEGIN:VEVENT
DTSTART;VALUE=DATE:20160228
DTEND;VALUE=DATE:20160229
DTSTAMP:20260420T204829
CREATED:20151209T063746Z
LAST-MODIFIED:20151209T063746Z
UID:4170-1456617600-1456703999@quillypark.com.au
SUMMARY:Picnic Racing Live at St Pats (Yea) - listen on 97.7FM
DESCRIPTION:Listen live on 97.7FM or online at www.caseyradio.com.au
URL:https://quillypark.com.au/event/picnic-racing-live-at-st-pats-yea-listen-on-97-7fm/
LOCATION:Yea Racing Club
CATEGORIES:Picnic Racing Live on 97.7FM
END:VEVENT
BEGIN:VEVENT
DTSTART;VALUE=DATE:20160126
DTEND;VALUE=DATE:20160127
DTSTAMP:20260420T204829
CREATED:20151209T063637Z
LAST-MODIFIED:20151209T063637Z
UID:4169-1453766400-1453852799@quillypark.com.au
SUMMARY:Picnic Racing Live at Balnarring - listen on 97.7FM
DESCRIPTION:Listen live on 97.7FM or online at www.caseyradio.com.au
URL:https://quillypark.com.au/event/picnic-racing-live-at-balnarring-listen-on-97-7fm/
LOCATION:Balnarring Picnic Racing Club
CATEGORIES:Picnic Racing Live on 97.7FM
END:VEVENT
BEGIN:VEVENT
DTSTART;VALUE=DATE:20160109
DTEND;VALUE=DATE:20160110
DTSTAMP:20260420T204829
CREATED:20151209T063531Z
LAST-MODIFIED:20151209T063531Z
UID:4168-1452297600-1452383999@quillypark.com.au
SUMMARY:Picnic Racing Live at Healesville - listen on 97.7FM
DESCRIPTION:Listen live on 97.7FM or online at www.caseyradio.com.au
URL:https://quillypark.com.au/event/picnic-racing-live-at-healesville-listen-on-97-7fm/
LOCATION:Healesville Amateur Racing Club
CATEGORIES:Picnic Racing Live on 97.7FM
END:VEVENT
BEGIN:VEVENT
DTSTART;VALUE=DATE:20160103
DTEND;VALUE=DATE:20160104
DTSTAMP:20260420T204829
CREATED:20151209T061055Z
LAST-MODIFIED:20151209T064327Z
UID:4165-1451779200-1451865599@quillypark.com.au
SUMMARY:Picnic Racing Live at Balnarring - listen on 97.7FM
DESCRIPTION:Listen live on 97.7FM or online at www.caseyradio.com.au
URL:https://quillypark.com.au/event/casey-radio-picnic-racing-live-at-balnarring-races-listen-in-on-97-7fm/
LOCATION:Balnarring Picnic Racing Club
CATEGORIES:Picnic Racing Live on 97.7FM
END:VEVENT
END:VCALENDAR